BEGIN:VCALENDAR
VERSION:2.0
PRODID:-//ParaHockey - ECPv6.10.2//NONSGML v1.0//EN
CALSCALE:GREGORIAN
METHOD:PUBLISH
X-ORIGINAL-URL:https://para-hockey.org.ua
X-WR-CALDESC:Події за ParaHockey
REFRESH-INTERVAL;VALUE=DURATION:PT1H
X-Robots-Tag:noindex
X-PUBLISHED-TTL:PT1H
BEGIN:VTIMEZONE
TZID:UTC
BEGIN:STANDARD
TZOFFSETFROM:+0000
TZOFFSETTO:+0000
TZNAME:UTC
DTSTART:20260101T000000
END:STANDARD
END:VTIMEZONE
BEGIN:VEVENT
DTSTART;VALUE=DATE:20261210
DTEND;VALUE=DATE:20261211
DTSTAMP:20260425T142353
CREATED:20250403T215352Z
LAST-MODIFIED:20250403T215352Z
UID:10000025-1796860800-1796947199@para-hockey.org.ua
SUMMARY:Форум EH Hockey ID
DESCRIPTION:Форум EH Hockey ID \nЛідери з усієї Європи зустрічаються онлайн
URL:https://para-hockey.org.ua/event/forum-eh-hockey-id-2-2026/
LOCATION:Онлайн
ATTACH;FMTTYPE=image/png:https://para-hockey.org.ua/wp-content/uploads/2024/05/eurohockey-logo.png
END:VEVENT
BEGIN:VEVENT
DTSTART;VALUE=DATE:20270304
DTEND;VALUE=DATE:20270305
DTSTAMP:20260425T142353
CREATED:20250403T220739Z
LAST-MODIFIED:20250403T220739Z
UID:10000029-1804118400-1804204799@para-hockey.org.ua
SUMMARY:Форум FIH Hockey ID
DESCRIPTION:Форум Hockey ID – вебінар для національних асоціацій\, а також інших організацій і осіб\, які підтримують Hockey ID.
URL:https://para-hockey.org.ua/event/forum-fih-hockey-id-2027/
LOCATION:Онлайн
ATTACH;FMTTYPE=image/png:https://para-hockey.org.ua/wp-content/uploads/2025/04/934dcc343007c51388be77b797efedb3.png
END:VEVENT
BEGIN:VEVENT
DTSTART;VALUE=DATE:20271211
DTEND;VALUE=DATE:20271212
DTSTAMP:20260425T142353
CREATED:20250403T220638Z
LAST-MODIFIED:20250403T220638Z
UID:10000028-1828483200-1828569599@para-hockey.org.ua
SUMMARY:Форум EH Hockey ID
DESCRIPTION:Форум EH Hockey ID \nЛідери з усієї Європи зустрічаються онлайн
URL:https://para-hockey.org.ua/event/forum-eh-hockey-id-2027/
LOCATION:Онлайн
ATTACH;FMTTYPE=image/png:https://para-hockey.org.ua/wp-content/uploads/2024/05/eurohockey-logo.png
END:VEVENT
END:VCALENDAR